BEGIN:VCALENDAR
VERSION:2.0
PRODID:-//wp-events-plugin.com//7.2.3.1//EN
TZID:America/Los_Angeles
X-WR-TIMEZONE:America/Los_Angeles
BEGIN:VEVENT
UID:555@sandplay.org
DTSTART;TZID=America/Los_Angeles:20260516T100000
DTEND;TZID=America/Los_Angeles:20260919T120000
DTSTAMP:20260323T171008Z
URL:https://www.sandplay.org/events/seven-sessions-final-case-paper-writin
 g-seminar/
SUMMARY:Seven Sessions - Final Case Paper Writing Seminar
DESCRIPTION:Seven-session Seminar:   May 16th\, June 27th\, July 18th \, 
 Aug 1st\, Aug 22nd\, Sep 5th\, &amp\; Sep 19th\, 2026\n\nBrief description
  of event:  An affordable 7-session seminar for a committed group who hav
 e selected their final case and are entering the writing process. This str
 uctured\, supportive space is designed to foster creativity and flow as we
  integrate essential elements.  Space is limited to 12.\n\nTo register: 
 CLICK HERE\n\nMore information: www.lorrainefreedle.com
CATEGORIES:Webinar
END:VEVENT
BEGIN:VTIMEZONE
TZID:America/Los_Angeles
X-LIC-LOCATION:America/Los_Angeles
BEGIN:DAYLIGHT
DTSTART:20260308T030000
TZOFFSETFROM:-0800
TZOFFSETTO:-0700
TZNAME:PDT
END:DAYLIGHT
END:VTIMEZONE
END:VCALENDAR