BEGIN:VCALENDAR
VERSION:2.0
PRODID:-//wp-events-plugin.com//7.2.3.1//EN
TZID:America/Los_Angeles
X-WR-TIMEZONE:America/Los_Angeles
BEGIN:VEVENT
UID:501@sandplay.org
DTSTART;TZID=America/Denver:20240619T180000
DTEND;TZID=America/Denver:20241107T200000
DTSTAMP:20240325T200621Z
URL:https://www.sandplay.org/events/minnesota-sandplay-therapy-group-summe
 r-and-fall-program-for-2024/
SUMMARY:Minnesota Sandplay Therapy Group Summer and Fall Program for 2024
DESCRIPTION:Annual Summer Picnic June 29th\, 10AM- until everyone goes home
 .\n\nBeing Hosted at the home of Juanita McCabe in River Falls\, Wisconsin
 \n\nThis will be an all-day event of eating\, socialization\, conversation
 s and the opportunity to learn about the tree archetype and make a wire/be
 ad tree with Ann Gilligan and Stephanie Hansen in Lovely River Falls\n\nLo
 ok for updates on our website www.minnesotasandplay.org.\n\nMSTG is please
 d to announce the following educational program for 2024.  \n\nJune 19 20
 24\, 6-8 PM\n\nSandplay Conversation with Jim Wright Via Zoom\n\nMy Journe
 y to Sandplay Therapy\n\nIt began at age 7 followed by completing a Sandpl
 ay Process with Barb Weller in 1992.  The conversation will begin with st
 ories and then move to into actual cases with photos of tray which will de
 monstrate how Sandplay therapy brought about healing for so many children 
 and teenagers.\n\nJim’s Bio\n\nJim has been in private practice in Burns
 ville\, MN working with children and adolescents who have experienced emot
 ional trauma.  He uses Sandplay therapy to help them in their healing.  
 Jim has also worked with adolescents who have sexually offended.  He has 
 used family\, individual\, and group therapy with this population.  Jim i
 s a published author of a book “The Sexualization of America’s Kids an
 d how to Stop It.”  Jim’s Degree is from the University of Chicago in
  Clinical Social Work.  He works exclusively with children and adolescent
 s.\n\nLook for updates on our website www.minnesotasandplay.org.\n\nRegist
 ration for June is coming soon.\n\nWednesday August 14\, 2024\, 6-8 PM CST
 \n\nSandplay Conversation with Ellen LeBel Via Zoom\n\nTopic writing Symbo
 l/Initial Papers\n\nMore information to follow.\n\nLook for updates on our
  website www.minnesotasandplay.org.  Registration is coming soon.\n\nFrid
 ay September 27\, 12PM Noon CST\n\n Saturday September 28\, and Sunday Se
 ptember 29 Adjourn after lunch\n\nMSTG Fall Retreat\nKoronos Retreat Cente
 r Minnesota\n\nThis will be a contemplative educational retreat focused on
  the personal and professional development of the Sandplay Therapist.\n\nT
 opics may include writing about symbols\, writing case papers\, writing fo
 r publication\, self-analysis or other areas not thought of by us yet.  T
 he concept of active imagination will be encouraged.  There will be senio
 r Sandplayers\, some CST-Ts wh will provide mentoring throughout the weeke
 nd in small and large group formats.  Attendees will pick their area of i
 nterest and introduce themselves and their area of focus at the first larg
 e group following lunch on Friday.  All attendees will be encouraged to a
 rrive for the first group which will be foundational for the weekend\n\nLo
 ok for updates on our website www.minnesotasandplay.org.  Registration is
  coming soon.\n\nThursday November 7\, 2024\, 6-8 PM CST\n\nSandplay Conve
 rsation with Ellen Saul Via Zoom\n\nEllen will talk about her recently pub
 lished book\, “From Pain to Power: Seven Steps to Healthy Boundaries.”
   Ellen says she is looking forward to showing the parallels between her 
 book and Lorraine Freedle’s Seven Phases of the Sandplay Process.\n\nMor
 e information to follow\n\nLook for updates on our website www.minnesotasa
 ndplay.org.  Registration is coming soon.\n\n&nbsp\;
END:VEVENT
BEGIN:VTIMEZONE
TZID:America/Denver
X-LIC-LOCATION:America/Denver
BEGIN:DAYLIGHT
DTSTART:20240310T030000
TZOFFSETFROM:-0700
TZOFFSETTO:-0600
TZNAME:MDT
END:DAYLIGHT
BEGIN:STANDARD
DTSTART:20241103T010000
TZOFFSETFROM:-0600
TZOFFSETTO:-0700
TZNAME:MST
END:STANDARD
END:VTIMEZONE
END:VCALENDAR