BEGIN:VCALENDAR
VERSION:2.0
PRODID:-//wp-events-plugin.com//7.2.3.1//EN
TZID:America/Los_Angeles
X-WR-TIMEZONE:America/Los_Angeles
BEGIN:VEVENT
UID:392@sandplay.org
DTSTART;TZID=America/Los_Angeles:20211111T120000
DTEND;TZID=America/Los_Angeles:20211111T180000
DTSTAMP:20211021T175020Z
URL:https://www.sandplay.org/events/loss-of-a-twin-a-young-boys-encounter-
 with-death-and-dying-presented-by-antoinette-eimers-psyd-cst-t/
SUMMARY:Loss of a Twin: A Young Boy’s  Encounter with Death and Dying Pre
 sented by Antoinette Eimers\, PsyD\, CST-T
DESCRIPTION:STH Fall Workshop - Loss of a Twin: A Young Boy’s Encounter w
 ith Death and Dying\n\nLocation:  Live\, interactive webinar\n\nDates /ti
 mes:  Thursday\, November 11\, 2021\; 9:00 am - 3:00 pm Hawaii and 12:00 
 pm to 6:00 pm Pacific Time\n\nPresenter:  Antoinette Eimers\, PsyD\, CST-
 T\n\nBrief description of event: \n\nThe Sandplay Therapists of Hawai’i
  (STH) welcomes Dr. Antoinette Eimers with aloha as she presents the coura
 geous sandplay work of twin boys (age 6).  This is a story of deep love a
 nd grief as one of the boys is diagnosed with leukemia and faces death.  
 5 CE’s (counselors and social workers).\n\nMore information: Loss of a T
 win Flyer\n\nRegistration:  http://www.sandplaytherapistsofhawaii.org/\n\
 nCost: $125 professional\, $100 Sandplay Therapists of Hawai’i Members\
 , $85 students
CATEGORIES:Webinar,Workshops
END:VEVENT
BEGIN:VTIMEZONE
TZID:America/Los_Angeles
X-LIC-LOCATION:America/Los_Angeles
BEGIN:STANDARD
DTSTART:20211107T010000
TZOFFSETFROM:-0700
TZOFFSETTO:-0800
TZNAME:PST
END:STANDARD
END:VTIMEZONE
END:VCALENDAR